BEGIN:VCALENDAR
VERSION:2.0
PRODID:-//E-Governance - ECPv6.14.2//NONSGML v1.0//EN
CALSCALE:GREGORIAN
METHOD:PUBLISH
X-WR-CALNAME:E-Governance
X-ORIGINAL-URL:https://egov.youthbridgefoundation.org
X-WR-CALDESC:Events for E-Governance
REFRESH-INTERVAL;VALUE=DURATION:PT1H
X-Robots-Tag:noindex
X-PUBLISHED-TTL:PT1H
BEGIN:VTIMEZONE
TZID:UTC
BEGIN:STANDARD
TZOFFSETFROM:+0000
TZOFFSETTO:+0000
TZNAME:UTC
DTSTART:20240101T000000
END:STANDARD
END:VTIMEZONE
BEGIN:VEVENT
DTSTART;TZID=UTC:20250219T153000
DTEND;TZID=UTC:20250219T170000
DTSTAMP:20260423T140327
CREATED:20250219T113944Z
LAST-MODIFIED:20250318T114023Z
UID:19291-1739979000-1739984400@egov.youthbridgefoundation.org
SUMMARY:Press launch - Policy Brief On 2024 Youth Sensitivity Analysis of Political Parties' Manifestos
DESCRIPTION: Tracking Accountability & Commitment To Youth 
URL:https://egov.youthbridgefoundation.org/event/press-launch-policy-brief-on-2024-youth-sensitivity-analysis-of-political-parties-manifestos/
LOCATION:Ghana International Press Center\, Accra\, Ghana
ATTACH;FMTTYPE=image/png:https://egov.youthbridgefoundation.org/wp-content/uploads/2025/03/Banner-Press-Launch.png
ORGANIZER;CN="Youth Bridge Foundation":MAILTO:programs@youthbridgefoundation.org
END:VEVENT
BEGIN:VEVENT
DTSTART;TZID=UTC:20241114T160000
DTEND;TZID=UTC:20241114T170000
DTSTAMP:20260423T140327
CREATED:20241114T112834Z
LAST-MODIFIED:20250318T113245Z
UID:19286-1731600000-1731603600@egov.youthbridgefoundation.org
SUMMARY:National Launch - Youth Sensitivity Analysis Of Political Parties' 2024 Manifesto
DESCRIPTION:Theme: Empowering Youth to Elevate Accountability
URL:https://egov.youthbridgefoundation.org/event/national-launch-youth-sensitivity-analysis-of-political-parties-2024-manifesto/
LOCATION:British Council\, Accra
ATTACH;FMTTYPE=image/png:https://egov.youthbridgefoundation.org/wp-content/uploads/2025/03/Youth-Sensitivity-Analysis-Star-Ghana.png
ORGANIZER;CN="Youth Bridge Foundation":MAILTO:programs@youthbridgefoundation.org
END:VEVENT
END:VCALENDAR